BEGIN:VCALENDAR
VERSION:2.0
PRODID:-//Squarespace Inc/Squarespace 6//v6//EN
BEGIN:VEVENT
UID:5fda9a915819f53fdbdb8c26@squarespace.com
DTSTAMP:20201216T234209Z
DTSTART:20210207T173000Z
DTEND:20210207T223000Z
SUMMARY:Shiatsu mini-retreat
GEO:-37.716029;145.592249
LOCATION:Yama Ki\, 1284 Don Road\, Don Valley\, VIC\, 3139\, Australia
END:VEVENT
END:VCALENDAR
