BEGIN:VCALENDAR
VERSION:2.0
PRODID:-//Squarespace Inc/Squarespace 6//v6//EN
BEGIN:VEVENT
UID:5f0111af2535ee0273c44969@squarespace.com
DTSTAMP:20201026T212221Z
DTSTART:20201121T153000Z
DTEND:20201121T210000Z
SUMMARY:Japanese ink art &amp\; shiatsu ~ Spring wood energy
GEO:-37.716029;145.592249
LOCATION:Yama Ki\, 1284 Don Road\, Don Valley\, Australia
END:VEVENT
END:VCALENDAR
