BEGIN:VCALENDAR
VERSION:2.0
PRODID:-//Squarespace Inc/Squarespace 6//v6//EN
BEGIN:VEVENT
UID:5e3cc6fd9af3cb44f6d62c72@squarespace.com
DTSTAMP:20200210T211658Z
DTSTART:20200308T140000Z
DTEND:20200308T170000Z
SUMMARY:Simply grounding ~ Shiatsu &amp\; Shamanic Meditation
END:VEVENT
END:VCALENDAR
