BEGIN:VCALENDAR
VERSION:2.0
PRODID:-//Squarespace Inc/Squarespace 6//v6//EN
BEGIN:VEVENT
UID:5f993a07c3589e337554b054@squarespace.com
DTSTAMP:20201028T093742Z
DTSTART:20201122T150000Z
DTEND:20201122T213000Z
SUMMARY:Unfolding into Nature - 1 Day Retreat
GEO:-37.71601;145.592263
LOCATION:Yama Ki\, 1284 Don Road\, Don Valley\, Australia
END:VEVENT
END:VCALENDAR
