BEGIN:VCALENDAR
VERSION:2.0
PRODID:-//Squarespace Inc/Squarespace 6//v6//EN
BEGIN:VEVENT
UID:5d338df7de51ea0001d30f47@squarespace.com
DTSTAMP:20190806T021458Z
DTSTART:20190922T140000Z
DTEND:20190922T170000Z
SUMMARY:Mushroom log &amp\; garden bed workshop
GEO:-37.71796;145.587391
LOCATION:Hill'n'dale farm cottages\, 1284 Don Road\, Don Valley\, Australia
END:VEVENT
END:VCALENDAR
