BEGIN:VCALENDAR
VERSION:2.0
PRODID:-//Squarespace Inc/Squarespace 6//v6//EN
BEGIN:VEVENT
UID:5cac07e9fa0d6019dc9f49fd@squarespace.com
DTSTAMP:20190506T213228Z
DTSTART:20190914T143000Z
DTEND:20190914T203000Z
SUMMARY:Creative flow within nature - Japanese ink art &amp\; shiatsu retre
 at
GEO:-37.71796;145.587391
LOCATION:Hill'n'dale farm cottage\, 1284 Don Road\, Don Valley\, Australia
END:VEVENT
END:VCALENDAR
