BEGIN:VCALENDAR
VERSION:2.0
PRODID:-//Squarespace Inc/Squarespace 6//v6//EN
BEGIN:VEVENT
UID:5d2c1ff9deabdd000172bfc5@squarespace.com
DTSTAMP:20191022T100633Z
DTSTART:20190812T123000Z
DTEND:20190813T203000Z
SUMMARY:Yarra Valley Medicine Drum Making Circle ~ for Women
GEO:-37.71796;145.587391
LOCATION:Hill'n'dale farm cottages\, 1284 Don Road\, Don Valley\, Australia
END:VEVENT
END:VCALENDAR
