BEGIN:VCALENDAR
VERSION:2.0
PRODID:-//Squarespace Inc/Squarespace 6//v6//EN
BEGIN:VEVENT
UID:5cac08d8eb39315fcd7e6170@squarespace.com
DTSTAMP:20190425T090213Z
DTSTART:20190518T143000Z
DTEND:20190518T193000Z
SUMMARY:Qigong day retreat
GEO:-37.71796;145.587391
LOCATION:Hill'n'dale farm cottages\, 1284 Don Road\, Don Valley\, Australia
END:VEVENT
END:VCALENDAR
