BEGIN:VCALENDAR
VERSION:2.0
PRODID:-//Squarespace Inc/Squarespace 6//v6//EN
BEGIN:VEVENT
UID:5d70a8634d2a670001ad583c@squarespace.com
DTSTAMP:20191210T230621Z
DTSTART:20191020T140000Z
DTEND:20191020T200000Z
SUMMARY:Spring Qigong &amp\; Tea Ceremony Day Retreat
GEO:-37.716029;145.592249
LOCATION:Hill'n'dale farm cottages\, 1284 Don Road\, Don valley\, Australia
END:VEVENT
END:VCALENDAR
