BEGIN:VCALENDAR
VERSION:2.0
PRODID:-//Squarespace Inc/Squarespace 6//v6//EN
BEGIN:VEVENT
UID:5df024ed73dc9f0a86db3e35@squarespace.com
DTSTAMP:20200208T041306Z
DTSTART:20200322T140000Z
DTEND:20200322T200000Z
SUMMARY:Qigong &amp\; Tea Ceremony Day Retreat
GEO:-37.716029;145.592249
LOCATION:Yama Ki\, 1284 Don Road\, Don valley\, Australia
END:VEVENT
END:VCALENDAR
